Workbook

Sheet Formulación
T2: Planificación magnitud cuatrienio
A3: Objetivo estratégico Plan Distrital de Desarrollo | B3: Programa Plan Distrital de Desarrollo | C3: Código Proyecto de inversión | D3: Proyecto de inversión | E3: No meta PDD | F3: ODS | G3: Política MIPG | H3: Objetivo estratégico UAESP | I3: Objetivo específico UAESP | J3: Meta estratégica UAESP | K3: Indicador | L3: Formula del indicador | M3: Unidad de medida | N3: Línea base | O3: Año línea base | P3: Fuente de datos | Q3: Peso porcentual indicador | R3: Dependencia responsable | S3: Proceso (mapa de proceso) | T3: Magnitud cuatrienio | U3: Evidencia | V3: 20XX | W3: 20XX | X3: 20XX | Y3: 20XX | Z3: 20XX

Sheet listas
A2: Tipo de Proceso | B2: Proceso | C2: Líder del Proceso | E2: POLITICAS MIPG | J2: POLITICAS PUBLICAS
A3: ESTRATÉGICOS | B3: Direccionamiento Estratégico | C3: Oficina Asesora de Planeación | E3: 1. Planeación Institucional | I3: 1 | J3: Política Pública de Acción Climática 2023-2050 / CONPES 31
B4: Gestión de las Comunicaciones | C4: Oficina Asesora de Comunicaciones y Relaciones Interinstitucionales | E4: 2. Gestión presupuestal y eficiencia del gasto público | I4: 2 | J4: Política pública de Actividades sexuales pagadas 2020 – 2029 / CONPES 11
B5: Gestión del Conocimiento y la Innovación | C5: Oficina Asesora de Planeación | E5: 3. Compras y contratación pública | I5: 3 | J5: Política Pública Integral de Derechos Humanos de Bogotá 2019-2034 /CONPES 11
B6: Gestión Disciplinaria Interna | C6: Oficina de Control Disciplinario Interno | E6: 4. Talento humano | I6: 4 | J6: Política Pública Distrital de Economía Circular 2023 – 2040 / CONPES 35
B7: Participación Ciudadana | C7: Dirección - OAP | E7: 5. Integridad | I7: 5 | J7: Política Pública Distrital para el Fenómeno De Habitabilidad en Calle 2015-2025 / CONPES 20
A8: MISIONALES | B8: Gestión Integral de Residuos Sólidos | C8: Subdirección Recolección, Barrido y Limpieza | E8: 6. Transparencia, acceso a la información pública y lucha contra la corrupción | I8: 6 | J8: Política Pública de Primera Infancia, Infancia y Adolescencia 2023-2033 / CONPES 27
B9: Gestión Integral de Residuos Sólidos | C9: Subdirección de Aprovechamiento | E9: 7. Fortalecimiento organizacional y simplificación de procesos | I9: 7 | J9: Política Pública de Mujeres y Equidad de Género 2020-2030 / CONPES 14
B10: Gestión Integral de Residuos Sólidos | C10: Subdirección Disposición Final | E10: 8. Servicio al ciudadano | I10: 8 | J10: Política Pública de Participación Incidente del Distrito Capital 2023 – 2034 / Decreto 503 de 2011
B11: Servicios Funerarios | C11: Subdirección de Servicios Funerarios y Alumbrado públicos | E11: 9. Participación ciudadana en la gestión pública | I11: 9 | J11: Política pública del Peatón, en Bogotá Primero el peatón 2023-2035 / CONPES 36
B12: Alumbrado Público | C12: Subdirección de Servicios Funerarios y Alumbrado públicos | E12: 10. Racionalización de trámites | I12: 10 | J12: Política Pública para y del Pueblo Rrom en Bogotá D.C. 2024-2036 / CONPES 40
A13: APOYO | B13: Gestión del Talento Humano | C13: Subdirección Administrativa y Financiera | E13: 11. Gobierno digital | I13: 11 | J13: Política Pública de Servicios Públicos para una Bogotá Inteligente y Sostenible 2023 -2035 / Decreto 233 de 2023
B14: Gestión Documental | C14: Subdirección Administrativa y Financiera | E14: 12. Seguridad digital | I14: 12 | J14: Política Pública Distrital de Turismo “Bogotá Destino Turístico Sostenible, Inteligente, Responsable e Incluyente” 2023-2033 / CONPES 26
B15: Gestión Financiera | C15: Subdirección Administrativa y Financiera | E15: 13. Defensa jurídica | I15: 1 | J15: Política Pública Distrital de Servicio a la Ciudadanía / CONPES 3
B16: Gestión de Apoyo Logístico | C16: Subdirección Administrativa y Financiera | E16: 14. Mejora normativa | I16: 2 | J16: Política Pública Distrital de Educación Ambiental 2019-2030 / CONPES 13
B17: Servicio al Ciudadano | C17: Subdirección Administrativa y Financiera | E17: 15. Gestión del conocimiento y la innovación | I17: 3 | J17: Política Pública LGBTI, identidades de género y orientaciones sexuales en el D.C. 2021-2032 / CONPES 16
B18: Gestión Tecnológica y de la Información | C18: Oficina Tecnología de la Información y las Comunicaciones | E18: 16. Gestión documental | I18: 4 | J18: Política Pública Distrital de Espacio Público 2019-2038 / CONPES 6
B19: Gestión Asuntos Legales | C19: Subdirección de Asuntos Legales | E19: 17. Gestión de la información estadística | I19: 5 | J19: Política Pública Distrital de Seguridad, Convivencia, Justicia y, Construcción de Paz y Reconciliación 2023-2038 / Decreto 537 de 2023
A20: EVALUACIÓN | B20: Gestión de Evaluación y Mejora | C20: Oficina de Control Interno | E20: 18. Seguimiento y evaluación del desempeño institucional | J20: No aplica
E21: 19. Control interno

Sheet Seguimiento
T2: Planificación magnitud cuatrienio | AA2: AÑO 20XX | AP2: AÑO 20XX | BE2: AÑO 20XX | BT2: AÑO 20XX
A3: Objetivo estratégico Plan Distrital de Desarrollo | B3: Programa Plan Distrital de Desarrollo | C3: Código Proyecto de inversión | D3: Proyecto de inversión | E3: No meta PDD | F3: ODS | G3: Política MIPG | H3: Objetivo estratégico UAESP | I3: Objetivo específico UAESP | J3: Meta estratégica UAESP | K3: Indicador | L3: Formula del indicador | M3: Unidad de medida | N3: Línea base | O3: Año línea base | P3: Fuente de datos | Q3: Peso porcentual indicador | R3: Dependencia responsable | S3: Proceso (mapa de proceso) | T3: Magnitud cuatrienio | U3: Evidencia | V3: 20XX | W3: 20XX | X3: 20XX | Y3: 20XX | Z3: 20XX | AA3: Programado I Cuatrimestre | AB3: Ejecutado I Cuatrimestre | AC3: Porcentaje cumplimiento I Cuatrimestre | AD3: Descripción avance I Cuatrimestre | AE3: Programado II Cuatrimestre | AF3: Ejecutado II Cuatrimestre | AG3: Porcentaje cumplimiento II Cuatrimestre | AH3: Descripción avance II Cuatrimestre | AI3: Programado III Cuatrimestre | AJ3: Ejecutado III Cuatrimestre | AK3: Porcentaje cumplimiento III Cuatrimestre | AL3: Descripción avance III Cuatrimestre | AM3: Programado año 2024 | AN3: Ejecutado año 2024 | AO3: Porcentaje cumplimiento año 2024 | AP3: Programado I Cuatrimestre | AQ3: Ejecutado I Cuatrimestre | AR3: Porcentaje cumplimiento I Cuatrimestre | AS3: Descripción avance I Cuatrimestre | AT3: Programado II Cuatrimestre | AU3: Ejecutado II Cuatrimestre | AV3: Porcentaje cumplimiento II Cuatrimestre | AW3: Descripción avance II Cuatrimestre | AX3: Programado III Cuatrimestre | AY3: Ejecutado III Cuatrimestre | AZ3: Porcentaje cumplimiento III Cuatrimestre | BA3: Descripción avance III Cuatrimestre | BB3: Programado año 2025 | BC3: Ejecutado año 2025 | BD3: Porcentaje cumplimiento año 2025 | BE3: Programado I Cuatrimestre | BF3: Ejecutado I Cuatrimestre | BG3: Porcentaje cumplimiento I Cuatrimestre | BH3: Descripción avance I Cuatrimestre | BI3: Programado II Cuatrimestre | BJ3: Ejecutado II Cuatrimestre | BK3: Porcentaje cumplimiento II Cuatrimestre | BL3: Descripción avance II Cuatrimestre | BM3: Programado III Cuatrimestre | BN3: Ejecutado III Cuatrimestre | BO3: Porcentaje cumplimiento III Cuatrimestre | BP3: Descripción avance III Cuatrimestre | BQ3: Programado año 2026 | BR3: Ejecutado año 2026 | BS3: Porcentaje cumplimiento año 2026 | BT3: Programado I Cuatrimestre | BU3: Ejecutado I Cuatrimestre | BV3: Porcentaje cumplimiento I Cuatrimestre | BW3: Descripción avance I Cuatrimestre | BX3: Programado II Cuatrimestre | BY3: Ejecutado II Cuatrimestre | BZ3: Porcentaje cumplimiento II Cuatrimestre | CA3: Descripción avance II Cuatrimestre | CB3: Programado III Cuatrimestre | CC3: Ejecutado III Cuatrimestre | CD3: Porcentaje cumplimiento III Cuatrimestre | CE3: Descripción avance III Cuatrimestre | CF3: Programado año 2027 | CG3: Ejecutado año 2027 | CH3: Porcentaje cumplimiento año 2027
A4: =Formulación!A4 -> 0 | B4: =Formulación!B4 -> 0 | C4: =Formulación!C4 -> 0 | D4: =Formulación!D4 -> 0 | E4: =Formulación!E4 -> 0 | F4: =Formulación!F4 -> 0 | G4: =Formulación!G4 -> 0 | H4: =Formulación!H4 -> 0 | ... Z4: =Formulación!Z4 -> 0
A5: =Formulación!A5 -> 0 | B5: =Formulación!B5 -> 0 | C5: =Formulación!C5 -> 0 | D5: =Formulación!D5 -> 0 | E5: =Formulación!E5 -> 0 | F5: =Formulación!F5 -> 0 | G5: =Formulación!G5 -> 0 | H5: =Formulación!H5 -> 0 | ... Z5: =Formulación!Z5 -> 0
A6: =Formulación!A6 -> 0 | B6: =Formulación!B6 -> 0 | C6: =Formulación!C6 -> 0 | D6: =Formulación!D6 -> 0 | E6: =Formulación!E6 -> 0 | F6: =Formulación!F6 -> 0 | G6: =Formulación!G6 -> 0 | H6: =Formulación!H6 -> 0 | ... Z6: =Formulación!Z6 -> 0
A7: =Formulación!A7 -> 0 | B7: =Formulación!B7 -> 0 | C7: =Formulación!C7 -> 0 | D7: =Formulación!D7 -> 0 | E7: =Formulación!E7 -> 0 | F7: =Formulación!F7 -> 0 | G7: =Formulación!G7 -> 0 | H7: =Formulación!H7 -> 0 | ... Z7: =Formulación!Z7 -> 0
A8: =Formulación!A8 -> 0 | B8: =Formulación!B8 -> 0 | C8: =Formulación!C8 -> 0 | D8: =Formulación!D8 -> 0 | E8: =Formulación!E8 -> 0 | F8: =Formulación!F8 -> 0 | G8: =Formulación!G8 -> 0 | H8: =Formulación!H8 -> 0 | ... Z8: =Formulación!Z8 -> 0
A9: =Formulación!A9 -> 0 | B9: =Formulación!B9 -> 0 | C9: =Formulación!C9 -> 0 | D9: =Formulación!D9 -> 0 | E9: =Formulación!E9 -> 0 | F9: =Formulación!F9 -> 0 | G9: =Formulación!G9 -> 0 | H9: =Formulación!H9 -> 0 | ... Z9: =Formulación!Z9 -> 0
A10: =Formulación!A10 -> 0 | B10: =Formulación!B10 -> 0 | C10: =Formulación!C10 -> 0 | D10: =Formulación!D10 -> 0 | E10: =Formulación!E10 -> 0 | F10: =Formulación!F10 -> 0 | G10: =Formulación!G10 -> 0 | H10: =Formulación!H10 -> 0 | ... Z10: =Formulación!Z10 -> 0
A11: =Formulación!A11 -> 0 | B11: =Formulación!B11 -> 0 | C11: =Formulación!C11 -> 0 | D11: =Formulación!D11 -> 0 | E11: =Formulación!E11 -> 0 | F11: =Formulación!F11 -> 0 | G11: =Formulación!G11 -> 0 | H11: =Formulación!H11 -> 0 | ... Z11: =Formulación!Z11 -> 0
A12: =Formulación!A12 -> 0 | B12: =Formulación!B12 -> 0 | C12: =Formulación!C12 -> 0 | D12: =Formulación!D12 -> 0 | E12: =Formulación!E12 -> 0 | F12: =Formulación!F12 -> 0 | G12: =Formulación!G12 -> 0 | H12: =Formulación!H12 -> 0 | ... Z12: =Formulación!Z12 -> 0
A13: =Formulación!A13 -> 0 | B13: =Formulación!B13 -> 0 | C13: =Formulación!C13 -> 0 | D13: =Formulación!D13 -> 0 | E13: =Formulación!E13 -> 0 | F13: =Formulación!F13 -> 0 | G13: =Formulación!G13 -> 0 | H13: =Formulación!H13 -> 0 | ... Z13: =Formulación!Z13 -> 0
A14: =Formulación!A14 -> 0 | B14: =Formulación!B14 -> 0 | C14: =Formulación!C14 -> 0 | D14: =Formulación!D14 -> 0 | E14: =Formulación!E14 -> 0 | F14: =Formulación!F14 -> 0 | G14: =Formulación!G14 -> 0 | H14: =Formulación!H14 -> 0 | ... Z14: =Formulación!Z14 -> 0
A15: =Formulación!A15 -> 0 | B15: =Formulación!B15 -> 0 | C15: =Formulación!C15 -> 0 | D15: =Formulación!D15 -> 0 | E15: =Formulación!E15 -> 0 | F15: =Formulación!F15 -> 0 | G15: =Formulación!G15 -> 0 | H15: =Formulación!H15 -> 0 | ... Z15: =Formulación!Z15 -> 0
... A28: =Formulación!A28 -> 0 | B28: =Formulación!B28 -> 0 | C28: =Formulación!C28 -> 0 | D28: =Formulación!D28 -> 0 | E28: =Formulación!E28 -> 0 | F28: =Formulación!F28 -> 0 | G28: =Formulación!G28 -> 0 | H28: =Formulación!H28 -> 0 | ... Z28: =Formulación!Z28 -> 0
